BEGIN:VCALENDAR
VERSION:2.0
PRODID:-//The Vanguard School - ECPv6.12.0.1//NONSGML v1.0//EN
CALSCALE:GREGORIAN
METHOD:PUBLISH
X-ORIGINAL-URL:https://thevanguardschool.com
X-WR-CALDESC:Events for The Vanguard School
REFRESH-INTERVAL;VALUE=DURATION:PT1H
X-Robots-Tag:noindex
X-PUBLISHED-TTL:PT1H
BEGIN:VTIMEZONE
TZID:America/Denver
BEGIN:DAYLIGHT
TZOFFSETFROM:-0700
TZOFFSETTO:-0600
TZNAME:MDT
DTSTART:20190310T090000
END:DAYLIGHT
BEGIN:STANDARD
TZOFFSETFROM:-0600
TZOFFSETTO:-0700
TZNAME:MST
DTSTART:20191103T080000
END:STANDARD
END:VTIMEZONE
BEGIN:VEVENT
DTSTART;TZID=America/Denver:20191118T180000
DTEND;TZID=America/Denver:20191118T200000
DTSTAMP:20260422T035852
CREATED:20191104T193440Z
LAST-MODIFIED:20191104T193440Z
UID:6384-1574100000-1574107200@thevanguardschool.com
SUMMARY:Grades 7 to 12 Town Hall Meeting
DESCRIPTION:
URL:https://thevanguardschool.com/event/grades-7-to-12-town-hall-meeting/
LOCATION:The Library
CATEGORIES:Grades 7-12
END:VEVENT
END:VCALENDAR