BEGIN:VCALENDAR
VERSION:2.0
PRODID:-//The Vanguard School - ECPv6.12.0.1//NONSGML v1.0//EN
CALSCALE:GREGORIAN
METHOD:PUBLISH
X-WR-CALNAME:The Vanguard School
X-ORIGINAL-URL:https://thevanguardschool.com
X-WR-CALDESC:Events for The Vanguard School
REFRESH-INTERVAL;VALUE=DURATION:PT1H
X-Robots-Tag:noindex
X-PUBLISHED-TTL:PT1H
BEGIN:VTIMEZONE
TZID:America/Denver
BEGIN:DAYLIGHT
TZOFFSETFROM:-0700
TZOFFSETTO:-0600
TZNAME:MDT
DTSTART:20200308T090000
END:DAYLIGHT
BEGIN:STANDARD
TZOFFSETFROM:-0600
TZOFFSETTO:-0700
TZNAME:MST
DTSTART:20201101T080000
END:STANDARD
END:VTIMEZONE
BEGIN:VEVENT
DTSTART;VALUE=DATE:20200528
DTEND;VALUE=DATE:20200530
DTSTAMP:20260419T084840
CREATED:20190628T232956Z
LAST-MODIFIED:20190905T204753Z
UID:5395-1590627600-1590713999@thevanguardschool.com
SUMMARY:Grade 8 Moving Up Ceremony
DESCRIPTION:
URL:https://thevanguardschool.com/event/grade-8-moving-up-ceremony/
LOCATION:CO
CATEGORIES:Grades 7-12
END:VEVENT
END:VCALENDAR